BEGIN:VCALENDAR
VERSION:2.0
PRODID:http://www.gelsenkirchen.de
METHOD:PUBLISH
BEGIN:VTIMEZONE
TZID:Europe/Berlin
BEGIN:DAYLIGHT
TZOFFSETFROM:+0100
TZOFFSETTO:+0200
DTSTART:19810329T020000
RRULE:FREQ=YEARLY;BYMONTH=3;BYDAY=-1SU
TZNAME:CEST
END:DAYLIGHT
BEGIN:STANDARD
TZOFFSETFROM:+0200
TZOFFSETTO:+0100
DTSTART:19961027T030000
RRULE:FREQ=YEARLY;BYMONTH=10;BYDAY=-1SU
TZNAME:CET
END:STANDARD
END:VTIMEZONE
BEGIN:VEVENT
UID:65298
ORGANIZER;CN="Stadt Gelsenkirchen - Referat Kultur" :MAILTO:referat.kultur@gelsenkirchen.de
LOCATION:Wissenschaftspark, Munscheidstr. 14, 45886 Gelsenkirchen
SUMMARY:Kultur-Barcamp
DESCRIPTION:Partizipation ist hier nicht nur ein Stichwort! Mit dem speziellen Format eines Barcamps soll in der Kulturentwicklungsplanung ein Rahmen geschaffen werden für die Ideen, Anregungen und Fragen, die aus der Mitte aller Kulturakteure in Gelsenkirchen gesammelt werden. Hierzu sind alle am 29. April, 15 bis 20 Uhr eingeladen, am Barcamp der KEP teilzunehmen und sich einzubringen. Der Wissenschaftspark wird dann für mehrere Stunden zu einem offenen Raum, in dem möglichst viele Stimmen gehört werden können.Anmeldungen nimmt Sandra Hartjes bis Donnerstag, 28. April, telefonisch unter 0209 169-9166 oder per Mail unter kulturentwicklung@gelsenkirchen.de entgegen.Das Kultur-Barcamp ist Teil des Kulturentwicklungsplans (KEP) Gelsenkirchen.
CLASS:PUBLIC
DTSTART;TZID=Europe/Berlin:20220429T150000
DTEND;TZID=Europe/Berlin:20220429T200000
DTSTAMP:20060812T125900Z
END:VEVENT
END:VCALENDAR