BEGIN:VCALENDAR
VERSION:2.0
PRODID:http://www.gelsenkirchen.de
METHOD:PUBLISH
BEGIN:VTIMEZONE
TZID:Europe/Berlin
BEGIN:DAYLIGHT
TZOFFSETFROM:+0100
TZOFFSETTO:+0200
DTSTART:19810329T020000
RRULE:FREQ=YEARLY;BYMONTH=3;BYDAY=-1SU
TZNAME:CEST
END:DAYLIGHT
BEGIN:STANDARD
TZOFFSETFROM:+0200
TZOFFSETTO:+0100
DTSTART:19961027T030000
RRULE:FREQ=YEARLY;BYMONTH=10;BYDAY=-1SU
TZNAME:CET
END:STANDARD
END:VTIMEZONE
BEGIN:VEVENT
UID:64784
ORGANIZER;CN="Stadt Gelsenkirchen - Referat Kinder, Jugend und Familien - Team Familienförderung/Familienbildung (51/3.2)" :MAILTO:familienbuero@gelsenkirchen.de
LOCATION:Stadtgarten Gelsenkirchen, Zeppelinallee, 45879 Gelsenkirchen
SUMMARY:15. Gelsenkirchener Familientag
DESCRIPTION:Endlich wieder live und vor Ort im Stadtgarten: Spiel, Spaß und tolle Mitmachaktionen für die ganze Familie stehen auf dem Programm. Viele Einrichtungen und Vereine stellen ihre Angebote und Infos zu Familienthemen in Gelsenkirchen vor. Ein vielfältiges Bühnenprogramm sorgt zusätzlich für Abwechselung. Und natürlich ist für das leibliche Wohl zu familienfreundlichen Preisen gesorgt. Der Familientag findet unter Einhaltung der zum entsprechenden Zeitpunkt geltenden Hygieneregeln statt. 
CLASS:PUBLIC
DTSTART;TZID=Europe/Berlin:20210828T140000
DTEND;TZID=Europe/Berlin:20210828T180000
DTSTAMP:20060812T125900Z
END:VEVENT
END:VCALENDAR