BEGIN:VCALENDAR
VERSION:2.0
PRODID:http://www.gelsenkirchen.de
METHOD:PUBLISH
BEGIN:VTIMEZONE
TZID:Europe/Berlin
BEGIN:DAYLIGHT
TZOFFSETFROM:+0100
TZOFFSETTO:+0200
DTSTART:19810329T020000
RRULE:FREQ=YEARLY;BYMONTH=3;BYDAY=-1SU
TZNAME:CEST
END:DAYLIGHT
BEGIN:STANDARD
TZOFFSETFROM:+0200
TZOFFSETTO:+0100
DTSTART:19961027T030000
RRULE:FREQ=YEARLY;BYMONTH=10;BYDAY=-1SU
TZNAME:CET
END:STANDARD
END:VTIMEZONE
BEGIN:VEVENT
UID:64567
ORGANIZER;CN="Heimatbund Gelsenkirchen e.V." :MAILTO:info@heimatbund-gelsenkirchen.de
LOCATION:Kulturraum „die flora“, Florastraße 26, 45879 Gelsenkirchen
SUMMARY:„Die Geschichte der Apotheken in Alt-Gelsenkirchen“ [Ausverkauft!]
DESCRIPTION:Hildegard Schneiders hat sich erneut in die Vergangenheit Gelsenkirchens aufgemacht und vergessene Erinnerungen zu Tage gefördert. Diesmal hat sie nach Spuren allen Apotheken in Alt-Gelsenkirchen gesucht, wobei sie das besondere Interesse auf die „Erstbesiedler“ richtet, also auf die ganz alten Apotheken, die vor dem Ersten Weltkrieg gegründet worden sind. Sie hat herausgefunden, was für ein langer Kampf es für die Gelsenkirchener Dorfbewohner war, bis sie 1838 endlich eine eigene Apotheke am Ort genehmigt bekamen. Zwei Gründungswellen folgten: Um 1900 erhielt fast jeder Stadtteil eine eigene Apotheke und nach der Niederlassungsfreiheit von 1957/58 wurden plötzlich eine große Zahl von Apotheken gegründet.In ihrem Bildervortrag präsentiert Hildegard Schneiders interessante, noch nicht veröffentlichte Fotos und weckt die Erinnerung an Apotheken, die sogar in ihrem Stadtteil fast ganz vergessen sind wie z.B. die Sonnen-Apotheke am Neustadtplatz.Eine telefonische Reservierung ist zwingend erforderlich.Für den Zugang zur Veranstaltung gelten bis auf weiteres die 2 „G`s“:•         Geimpft                             mind. 14 Tage nach abgeschlossener Immunisierung•         Genesen                            mind. 28 Tage nach ErkrankungsendeBitte legen Sie beim Eintritt die entsprechenden Nachweise vor!In der Kultureinrichtung gilt durchgehend Maskenpflicht.Bitte informieren Sie sich auf der Homepage über den tagesaktuellen Stand.Veranstalter: Heimatbund Gelsenkirchen e.V.
CLASS:PUBLIC
DTSTART;TZID=Europe/Berlin:20220223T190000
DTSTAMP:20060812T125900Z
END:VEVENT
END:VCALENDAR