BEGIN:VCALENDAR
VERSION:2.0
PRODID:http://www.gelsenkirchen.de
METHOD:PUBLISH
BEGIN:VTIMEZONE
TZID:Europe/Berlin
BEGIN:DAYLIGHT
TZOFFSETFROM:+0100
TZOFFSETTO:+0200
DTSTART:19810329T020000
RRULE:FREQ=YEARLY;BYMONTH=3;BYDAY=-1SU
TZNAME:CEST
END:DAYLIGHT
BEGIN:STANDARD
TZOFFSETFROM:+0200
TZOFFSETTO:+0100
DTSTART:19961027T030000
RRULE:FREQ=YEARLY;BYMONTH=10;BYDAY=-1SU
TZNAME:CET
END:STANDARD
END:VTIMEZONE
BEGIN:VEVENT
UID:64560
ORGANIZER;CN="Generationennetz Gelsenkirchen e.V." 
LOCATION:Kulturraum „die flora“, Florastraße 26, 45879 Gelsenkirchen
SUMMARY:Wasser-Welten: „Männer im Wasser“
DESCRIPTION:Mehrfach fielen die „Männer ins Wasser“, da der Film pandemiebedingt schon drei Mal verschoben werden musste. Zum neuen Jahr und Auftakt der Frühjahrsfilmreihe gibt es nun einen neuen Versuch.„Synchronschwimmen statt Midlife-Crisis“ – mit einer Mischung aus ungezwungenem Humor und erfrischenden Charakteren inszenierte Regisseur Måns Herngren diese schwedische Komödie (S 2008, 100 Min.). Im Mittelpunkt steht Fredrik, ein Vater auf Selbstfindungskurs, der aus einer Laune heraus das Synchronschwimmen für sich entdeckt und in völliger Selbstüberschätzung gleich eine WM-taugliche Mannschaft aus seinen alten Hockeykollegen zusammenstellen will. Seine Ehe liegt in Scherben, die Tochter macht es ihm auch nicht leicht… Viele Irrungen und Wirrungen später begreift Fredrik, dass das Leben kein Einzelzeitfahren ist, sondern nur als Teamsport funktioniert und das der Halt durch Familie und Freundschaft ein ganz besonderer ist. Nach dem Film schließt sich eine Diskussion mit den Vertreterinnen der Projektwerkstatt 50+ und dem Generationennetz an.Weitere Termine:06. März 2022, 15 Uhr: Gegen den Strom03. April 2022, 15 Uhr: Und dann der Regen08. Mai 2022, 15 Uhr: Gestrandet12. Juni 2022, 15 Uhr: UndineEine telefonische Reservierung ist zwingend erforderlich!Für den Zugang zur Veranstaltung gelten bis auf weiteres die 2 „G`s“:•         Geimpft                             mind. 14 Tage nach abgeschlossener Immunisierung•         Genesen                           mind. 28 Tage nach ErkrankungsendeBitte legen Sie beim Eintritt die entsprechenden Nachweise vor!In der Kultureinrichtung gilt durchgehend Maskenpflicht.Bitte informieren Sie sich auf der Homepage über den tagesaktuellen Stand.Veranstalter: Generationennetz Gelsenkirchen e. V. in Kooperation mit dem Kulturraum „die flora“
CLASS:PUBLIC
DTSTART;TZID=Europe/Berlin:20220206T150000
DTSTAMP:20060812T125900Z
END:VEVENT
END:VCALENDAR