BEGIN:VCALENDAR
VERSION:2.0
PRODID:http://www.gelsenkirchen.de
METHOD:PUBLISH
BEGIN:VTIMEZONE
TZID:Europe/Berlin
BEGIN:DAYLIGHT
TZOFFSETFROM:+0100
TZOFFSETTO:+0200
DTSTART:19810329T020000
RRULE:FREQ=YEARLY;BYMONTH=3;BYDAY=-1SU
TZNAME:CEST
END:DAYLIGHT
BEGIN:STANDARD
TZOFFSETFROM:+0200
TZOFFSETTO:+0100
DTSTART:19961027T030000
RRULE:FREQ=YEARLY;BYMONTH=10;BYDAY=-1SU
TZNAME:CET
END:STANDARD
END:VTIMEZONE
BEGIN:VEVENT
UID:63980
ORGANIZER;CN="Musiktheater im Revier" :MAILTO:info@musiktheater-im-revier.de
LOCATION:Musiktheater im Revier (MiR), Kennedyplatz, 45881 Gelsenkirchen
SUMMARY:AVENUE Q
DESCRIPTION:Endlich New York! Hier sucht der College-Abgänger Princeton seine Bestimmung. Erschwinglich ist für ihn aber nur die Bruchbude in der Avenue Q, berühmt für günstige Mieten und gute Gelegenheiten, ausgeraubt zu werden. Wer hier wohnt, hat seine Erwartungen auf null geschraubt oder klammert sich hartnäckig an den American Dream. Der ehemalige Kinderstar Macaulay Culkin fungiert als Hausmeister, der verkannte Komiker Brian schafft es nicht, über seine Arbeitslosigkeit hinwegzutäuschen und die naive Praktikantin Kate träumt davon, eine eigene Schule nur für Monster zu eröffnen. Die Avenue Q beherbergt nämlich nicht nur die unterschiedlichsten Menschen, sondern auch unterschiedliche Wesen. Und vielleicht findet auch Princeton hier seinen Platz im Leben. In „Avenue Q“ treffen Wünsche und Träume auf die harte Realität der amerikanischen Außenbezirke. In brillanter  Musicalverpackung rechnet das Autorentrio mit der heilen Welt der Sesamstraße ab. Die fröhlich-ironische Ausein-andersetzung mit den Herausforderungen der modernen Gesellschaft wurde mit drei Tony Awards ausgezeichnet.
CLASS:PUBLIC
DTSTART;TZID=Europe/Berlin:20220127T193000
DTSTAMP:20060812T125900Z
END:VEVENT
END:VCALENDAR