BEGIN:VCALENDAR
VERSION:2.0
PRODID:http://www.gelsenkirchen.de
METHOD:PUBLISH
BEGIN:VTIMEZONE
TZID:Europe/Berlin
BEGIN:DAYLIGHT
TZOFFSETFROM:+0100
TZOFFSETTO:+0200
DTSTART:19810329T020000
RRULE:FREQ=YEARLY;BYMONTH=3;BYDAY=-1SU
TZNAME:CEST
END:DAYLIGHT
BEGIN:STANDARD
TZOFFSETFROM:+0200
TZOFFSETTO:+0100
DTSTART:19961027T030000
RRULE:FREQ=YEARLY;BYMONTH=10;BYDAY=-1SU
TZNAME:CET
END:STANDARD
END:VTIMEZONE
BEGIN:VEVENT
UID:63967
ORGANIZER;CN="VHS - Volkshochschule der Stadt Gelsenkirchen" 
LOCATION:Online, -, - -
SUMMARY:Prävention 4.0 in Zeiten der Pandemie
DESCRIPTION:Die digitale Transformation verändert Schritt für Schritt unsere Arbeitswelt. Diese Veränderungen wirken sich sowohl auf Führung und Unternehmenskultur als auch auf die Sicherheit und Gesundheit von Beschäftigten aus. Zudem hat die Corona-Pandemie gezeigt, wie wichtig eine gesundheitsfördernde Arbeitsgestaltung ist.Ausgehend von dem Forschungsprojekt "Prävention 4.0" befasst sich der Vortrag mit diesen Auswirkungen, welche Lehren sich aus der Corona-Pandemie ziehen lassen und skizziert Präventionsmaßnahmen, die zu einer sicheren und gesunden Arbeitsgestaltung in der digitalisierten Arbeitswelt beitragen können.Referent: Dr. Ufuk Altun, ifaa - Institut für angewandte Arbeitswissenschaft e. V. DüsseldorfDie Veranstaltung wird in der Reihe vhs.Skills in Kooperation mit der vhs.Böblingen-Sindelfingen e.V. angeboten. Dieser Online-Vortrag kann auf dem Rechner zuhause verfolgt werden. Die Zugangsdaten werden nach der Anmeldung auf www.vhs-gelsenkirchen.de zugeschickt.
CLASS:PUBLIC
DTSTART;TZID=Europe/Berlin:20220117T190000
DTEND;TZID=Europe/Berlin:20220117T200000
DTSTAMP:20060812T125900Z
END:VEVENT
END:VCALENDAR