BEGIN:VCALENDAR
VERSION:2.0
PRODID:http://www.gelsenkirchen.de
METHOD:PUBLISH
BEGIN:VTIMEZONE
TZID:Europe/Berlin
BEGIN:DAYLIGHT
TZOFFSETFROM:+0100
TZOFFSETTO:+0200
DTSTART:19810329T020000
RRULE:FREQ=YEARLY;BYMONTH=3;BYDAY=-1SU
TZNAME:CEST
END:DAYLIGHT
BEGIN:STANDARD
TZOFFSETFROM:+0200
TZOFFSETTO:+0100
DTSTART:19961027T030000
RRULE:FREQ=YEARLY;BYMONTH=10;BYDAY=-1SU
TZNAME:CET
END:STANDARD
END:VTIMEZONE
BEGIN:VEVENT
UID:63464
ORGANIZER;CN="Institut für Stadtgeschichte" :MAILTO:isg@gelsenkirchen.de
LOCATION:Kulturraum „die flora“, Florastraße 26, 45879 Gelsenkirchen
SUMMARY:„Von Artvin nach Deutschland. Die Lebensgeschichte des ersten Türkischlehrers in Gelsenkirchen“
DESCRIPTION:Celalettin Ağırbaş, geboren in der Provinz Artvin im Nordosten der Türkei, hat seine Lebensgeschichte vor allem für seine Familie aufgeschrieben. Er erzählt über seine Kindheit und sein Erwachsenwerden in der Türkei. Er berichtet über seine Erlebnisse während seiner Ausbildung zum Lehrer und die Herausforderungen, denen er als Lehrer in der Türkei begegnet ist. Er beschreibt auch Erlebnisse, die in Gelsenkirchen geschehen sind, als er als erster Türkischlehrer in die ihm fremde Stadt kam, seine Arbeit mit den Kindern anderer Migrantinnen und Migranten und sein schrittweises Ankommen in Gelsenkirchen.Es sind persönliche Begegnungen und Erfahrungen, die Celalettin Ağırbaş niedergeschrieben hat, doch ist sein Buch viel mehr als eine private Geschichte. Es steht auch für all jene Menschen, die in den 1960er Jahren als Arbeitsimmigrantinnen und -immigranten aus der Türkei gekommen sind. Als Lehrer hat er das Leben von vielen Schülerinnen und Schüler geprägt, die mit ihren Eltern aus der Türkei nach Deutschland gekommen waren. Durch sein Wirken hat Celalettin Ağırbaş einen Teil der Gelsenkirchener Geschichte mitgestaltet, seine Biografie ist Teil der Geschichte dieser Stadt.Celalettin Ağırbaş wird einige Ausschnitte aus dem türkischen Original seines gerade erschienenen Buches vorlesen. Eine deutschsprachige Lesung erfolgt ebenfalls.Eine Veranstaltung im Rahmen von „60 Jahre Merhaba in Gelsenkirchen"Im Jahr 1961 schloss die Bundesrepublik ein Anwerbeabkommen mit der Türkei. In Deutschland boomte die Wirtschaft, Arbeitskräfte aus anderen Ländern waren sehr willkommen. Und auch in Gelsenkirchen begrüßten sich nicht wenige Arbeitskräfte bald mit dem türkischen „Merhaba“. Dem Abkommen zufolge sollten die Menschen etwa zwei Jahre in Deutschland bleiben. Viele kehrten nach Ende der Vertragsdauer daher in ihre Heimat zurück, andere fanden in Gelsenkirchen ihre zweite Heimat. Die Veranstaltungsreihe möchte anlässlich des 60. Jahrestags des Deutsch-Türkischen Anwerbeabkommens verschiedene Aspekte dieser Zeit beleuchten.Für den Zugang zur Veranstaltung gelten bis auf weiteres die 2 „G`s“:•         Geimpft                             mind. 14 Tage nach abgeschlossener Immunisierung•         Genesen                           mind. 28 Tage nach ErkrankungsendeBitte legen Sie beim Eintritt die entsprechenden Nachweise vor!Bitte informieren Sie sich auf der Homepage über den tagesaktuellen Stand.
CLASS:PUBLIC
DTSTART;TZID=Europe/Berlin:20211209T180000
DTSTAMP:20060812T125900Z
END:VEVENT
END:VCALENDAR