BEGIN:VCALENDAR
VERSION:2.0
PRODID:http://www.gelsenkirchen.de
METHOD:PUBLISH
BEGIN:VTIMEZONE
TZID:Europe/Berlin
BEGIN:DAYLIGHT
TZOFFSETFROM:+0100
TZOFFSETTO:+0200
DTSTART:19810329T020000
RRULE:FREQ=YEARLY;BYMONTH=3;BYDAY=-1SU
TZNAME:CEST
END:DAYLIGHT
BEGIN:STANDARD
TZOFFSETFROM:+0200
TZOFFSETTO:+0100
DTSTART:19961027T030000
RRULE:FREQ=YEARLY;BYMONTH=10;BYDAY=-1SU
TZNAME:CET
END:STANDARD
END:VTIMEZONE
BEGIN:VEVENT
UID:63345
ORGANIZER;CN="Stadt Gelsenkirchen - Referat Kultur in Kooperation mit dem Schauburg Filmpalast" 
LOCATION:Schauburg Filmpalast, Horster Straße 6, 45897 Gelsenkirchen
SUMMARY:Curveball - Wir machen die Wahrheit
DESCRIPTION:Politische Satire / Drama von Johannes Naber &amp; Oliver Keidel mit Sebastian Blomberg, Dar Salim, Virginia Kull, Michael Wittenborn u. a.; D 2020, 109 Min.; FSK: ab 12 J.Deutschland, Anfang 2000. BND-Biowaffenexperte Wolf (Sebastian Blomberg) glaubt fest daran, dass im Irak trotz der UN-Kontrollen biologische Waffen hergestellt werden. Sein Vorgesetzter Schatz (Thorsten Merten) weist ihm den irakischen Asylbewerber Alwan (Dar Salim), Decknahme "Curveball", zu. Dieser behauptet, als Ingenieur Teil von Saddam Husseins geheimen Biowaffenprogramm gewesen zu sein - eine Sensation für den nicht gerade von Erfolg verwöhnten BND, denn endlich wäre man der CIA mal eine Information voraus. Allerdings fehlt der Beweis, den Wolf mittels Alwan nun unbedingt erbringen soll ...Mit scharfen Dialogen und schwarzem Humor beleuchtet Regisseur Johannes Naber (ZEIT DER KANNIBALEN) die geheimdienstlichen Hintergründe einer grotesken Farce, welche die große Weltpolitik in Bewegung gebracht hat. Nominiert für drei "Deutsche Filmpreise" in den Kategorien "Bester Spielfilm", "Bester Nebendarsteller" (Thorsten Merten) und "Bestes Drehbuch".Präsentiert in der KoKi-Reihe "Neuer Deutscher Film"
CLASS:PUBLIC
DTSTART;TZID=Europe/Berlin:20211101T173000
DTSTAMP:20060812T125900Z
END:VEVENT
END:VCALENDAR