BEGIN:VCALENDAR
VERSION:2.0
PRODID:http://www.gelsenkirchen.de
METHOD:PUBLISH
BEGIN:VTIMEZONE
TZID:Europe/Berlin
BEGIN:DAYLIGHT
TZOFFSETFROM:+0100
TZOFFSETTO:+0200
DTSTART:19810329T020000
RRULE:FREQ=YEARLY;BYMONTH=3;BYDAY=-1SU
TZNAME:CEST
END:DAYLIGHT
BEGIN:STANDARD
TZOFFSETFROM:+0200
TZOFFSETTO:+0100
DTSTART:19961027T030000
RRULE:FREQ=YEARLY;BYMONTH=10;BYDAY=-1SU
TZNAME:CET
END:STANDARD
END:VTIMEZONE
BEGIN:VEVENT
UID:62067
ORGANIZER;CN="Messe München GmbH" 
LOCATION:Messe München, Messegelände, 81823 München
SUMMARY:EXPO REAL 2021
DESCRIPTION:Die Messe EXPO REAL bildet das gesamte Spektrum der Immobilienwirtschaft ab und bietet eine internationale Networking-Plattform für die bedeutenden Märkte von Europa über Russland, den Mittleren Osten bis in die USA.Das umfangreiche Konferenzprogramm mit rund 400 Referenten bietet einen fundierten Überblick über aktuelle Trends und Innovationen des Immobilien-, Investitions- und Finanzierungsmarktes.Vertreter der Stadt Gelsenkirchen werben auf Europas größter Fachmesse für den Wirtschaftsstandort Gelsenkirchen und präsentieren verschiedene Flächenprojekte.
CLASS:PUBLIC
DTSTART;TZID=Europe/Berlin:20211011
DTEND;TZID=Europe/Berlin:20211015
DTSTAMP:20060812T125900Z
END:VEVENT
END:VCALENDAR