BEGIN:VCALENDAR
VERSION:2.0
PRODID:http://www.gelsenkirchen.de
METHOD:PUBLISH
BEGIN:VTIMEZONE
TZID:Europe/Berlin
BEGIN:DAYLIGHT
TZOFFSETFROM:+0100
TZOFFSETTO:+0200
DTSTART:19810329T020000
RRULE:FREQ=YEARLY;BYMONTH=3;BYDAY=-1SU
TZNAME:CEST
END:DAYLIGHT
BEGIN:STANDARD
TZOFFSETFROM:+0200
TZOFFSETTO:+0100
DTSTART:19961027T030000
RRULE:FREQ=YEARLY;BYMONTH=10;BYDAY=-1SU
TZNAME:CET
END:STANDARD
END:VTIMEZONE
BEGIN:VEVENT
UID:58669
ORGANIZER;CN="Stadt Gelsenkirchen - Referat Zuwanderung und Integration" 
LOCATION:Kulturraum „die flora“, Florastraße 26, 45879 Gelsenkirchen
SUMMARY:Solo & Allein
DESCRIPTION:Der Musiker, Radiomoderator und Autor Danko Rabrenović geht wieder auf Tour. Diesmal allerdings „Solo &amp; Allein“. Der ex Balkanizer macht ein Experiment und verlässt sich dabei auf sein Improvisationstalent und seine Gitarre. Rabrenović will als Geschichtenerzähler und Performer eine neue Form finden, die irgendwo zwischen Konzert, Lesung, Stand Up und Kabarett liegt. Die Form ändert sich, seine Themen bleiben: Sprache, Exil, Identität, Kulturschocks, Heimatgefühle, Nationalismus, Integration, Migrationshintergrund und ähnliche Krankheiten.Danko Rabrenović wurde in Zagreb geboren, wuchs in Belgrad auf und lebte als Kind mit seinen Eltern drei Jahre in Peking. Kurz nach Ausbruch des Jugoslawien-Krieges kam er nach Deutschland. Er moderierte von 2005 bis 2016 die Kultsendung „Balkanizer“ auf WDR Funkhaus Europa. Seit Januar 2017 moderiert er beim Nachfolgesender WDR COSMO. 2018 feierte er das 15-jährige Bühnenjubiläum mit seiner Ska-Punk Band Trovači.Veranstalter: Referat Zuwanderung und Integration in Kooperation mit dem Kulturraum „die flora“ und Migrantenvereinen
CLASS:PUBLIC
DTSTART;TZID=Europe/Berlin:20200228T200000
DTSTAMP:20060812T125900Z
END:VEVENT
END:VCALENDAR