BEGIN:VCALENDAR
VERSION:2.0
PRODID:http://www.gelsenkirchen.de
METHOD:PUBLISH
BEGIN:VTIMEZONE
TZID:Europe/Berlin
BEGIN:DAYLIGHT
TZOFFSETFROM:+0100
TZOFFSETTO:+0200
DTSTART:19810329T020000
RRULE:FREQ=YEARLY;BYMONTH=3;BYDAY=-1SU
TZNAME:CEST
END:DAYLIGHT
BEGIN:STANDARD
TZOFFSETFROM:+0200
TZOFFSETTO:+0100
DTSTART:19961027T030000
RRULE:FREQ=YEARLY;BYMONTH=10;BYDAY=-1SU
TZNAME:CET
END:STANDARD
END:VTIMEZONE
BEGIN:VEVENT
UID:58011
ORGANIZER;CN="Stadt Gelsenkirchen - Referat Kinder, Jugend und Familien - Team Familienförderung/Familienbildung (51/3.2)" :MAILTO:familienbuero@gelsenkirchen.de
LOCATION:Stadtgarten Gelsenkirchen, Zeppelinallee, 45879 Gelsenkirchen
SUMMARY:Gelsenkirchener Familientag
DESCRIPTION:Gerne würden wir an dieser Stelle wie gewohnt den 15. Gelsenkirchener Familientag als buntes Fest für die ganze Familie ankündigen. Ob und wenn ja in welcher Form dieses Fest stattfinden kann, ist noch unklar. Sobald wie möglich finden Sie an dieser Stelle weitere Infos.
CLASS:PUBLIC
DTSTART;TZID=Europe/Berlin:20200830T140000
DTEND;TZID=Europe/Berlin:20200830T180000
DTSTAMP:20060812T125900Z
END:VEVENT
END:VCALENDAR