BEGIN:VCALENDAR
VERSION:2.0
PRODID:http://www.gelsenkirchen.de
METHOD:PUBLISH
BEGIN:VTIMEZONE
TZID:Europe/Berlin
BEGIN:DAYLIGHT
TZOFFSETFROM:+0100
TZOFFSETTO:+0200
DTSTART:19810329T020000
RRULE:FREQ=YEARLY;BYMONTH=3;BYDAY=-1SU
TZNAME:CEST
END:DAYLIGHT
BEGIN:STANDARD
TZOFFSETFROM:+0200
TZOFFSETTO:+0100
DTSTART:19961027T030000
RRULE:FREQ=YEARLY;BYMONTH=10;BYDAY=-1SU
TZNAME:CET
END:STANDARD
END:VTIMEZONE
BEGIN:VEVENT
UID:57777
ORGANIZER;CN="Stadt Gelsenkirchen - Referat Kultur in Kooperation mit der Bürgerstiftung" 
LOCATION:Consol Theater, Bismarckstraße 240, 45889 Gelsenkirchen
SUMMARY:6. FigurenTheaterWoche Gelsenkirchen - Europäische Marionettengala (Ausverkauft)
DESCRIPTION:Bühnen: Dornerei-Theater mit Puppen, Fantasie-Theater, Theater Spejbl und Hurvinek, Salzburger MarionettentheaterDie „Europäische Marionettengala“ ist eine Kooperation zwischen dem traditionsreichen Prager Marionettentheater Spejbl und Hurvinek, den weltberühmten Salzburger Marionetten und den singenden Marionettensolisten Bernd Lang (Fantasie-Theater) und Markus Dorner (Dornerei-Theater mit Puppen), beide aus Deutschland.Diese Bühnen aus drei Ländern präsentieren in einem abwechslungsreichen Programm die große Vielfalt traditioneller Marionettenkunst in ihrer ganz eigenen Handschrift und Ländertradition.Das Publikum erwartet dabei ein exclusiver Abend mit beliebten Ausschnitten aus Mozartopern wie „Don Giovanni“ oder „Die Zauberflöte“, teilweise mit Live-Gesang, klassisches Marionettenballet, das Wiedererscheinen der „Drei Tenöre“ und die unterhaltsamen Dialoge zwischen den Vater-und-Sohn-Kultfiguren Spejbl und Hurvinek.
CLASS:PUBLIC
DTSTART;TZID=Europe/Berlin:20200125T200000
DTSTAMP:20060812T125900Z
END:VEVENT
END:VCALENDAR