BEGIN:VCALENDAR
VERSION:2.0
PRODID:http://www.gelsenkirchen.de
METHOD:PUBLISH
BEGIN:VTIMEZONE
TZID:Europe/Berlin
BEGIN:DAYLIGHT
TZOFFSETFROM:+0100
TZOFFSETTO:+0200
DTSTART:19810329T020000
RRULE:FREQ=YEARLY;BYMONTH=3;BYDAY=-1SU
TZNAME:CEST
END:DAYLIGHT
BEGIN:STANDARD
TZOFFSETFROM:+0200
TZOFFSETTO:+0100
DTSTART:19961027T030000
RRULE:FREQ=YEARLY;BYMONTH=10;BYDAY=-1SU
TZNAME:CET
END:STANDARD
END:VTIMEZONE
BEGIN:VEVENT
UID:57406
ORGANIZER;CN="werkstatt e.V." :MAILTO:info@werkstatt-ev.de
LOCATION:werkstatt, Hagenstraße 34, 45894 Gelsenkirchen
SUMMARY:Rolf Glasmeier
DESCRIPTION:1945 in Pewsum bei Emden geboren, wuchs Rolf Glasmeier ab 1949 in Gelsenkirchen auf. Hier absolvierte er ab 1962 eine Ausbildung zum Schriftsetzer und studierte später visuelle Kommunikation an der Hochschule für Gestaltung in Ulm. Noch während des Studiums entstanden seine ersten Kaufhausobjekte, mit denen er schnell für Furore sorgte. Schon 1967 sprach ihm die Stadt Gelsenkirchen den Kunstpreis zu.1969 engagierte sich Glasmeier als Gründungsmitglied in der Gelsenkirchener Künstlergruppe „B 1“ und erhielt 1970 das renommierte Stipendiat für die Villa Massimo in Rom. Anlässlich der 6. Biennale von Venedig errang der Künstler den 1. Preis. Glasmeier verstarb am 30. März 2003 in Gelsenkirchen.Vernissage → Fr, 04.10. (19:00 Uhr)Foto: 14 Glasmeier                               © Thomas Robbin
CLASS:PUBLIC
DTSTART;TZID=Europe/Berlin:20191004
DTEND;TZID=Europe/Berlin:20191110
DTSTAMP:20060812T125900Z
END:VEVENT
END:VCALENDAR