BEGIN:VCALENDAR
VERSION:2.0
PRODID:http://www.gelsenkirchen.de
METHOD:PUBLISH
BEGIN:VTIMEZONE
TZID:Europe/Berlin
BEGIN:DAYLIGHT
TZOFFSETFROM:+0100
TZOFFSETTO:+0200
DTSTART:19810329T020000
RRULE:FREQ=YEARLY;BYMONTH=3;BYDAY=-1SU
TZNAME:CEST
END:DAYLIGHT
BEGIN:STANDARD
TZOFFSETFROM:+0200
TZOFFSETTO:+0100
DTSTART:19961027T030000
RRULE:FREQ=YEARLY;BYMONTH=10;BYDAY=-1SU
TZNAME:CET
END:STANDARD
END:VTIMEZONE
BEGIN:VEVENT
UID:56641
ORGANIZER;CN="Internationales Frauencafé im "Lalok Libre"" :MAILTO:info@lalok.de
LOCATION:Kulturraum „die flora“, Florastraße 26, 45879 Gelsenkirchen
SUMMARY:Migradonna – Der Preis für starke Frauen im Ehrenamt
DESCRIPTION:Bis zum 06.09.2019 können noch Vorschläge für die Migradonna 2019 durch Gelsenkirchener Vereine, Organisationen und Initiativen eingereicht werden. Der Preis zeichnet seit 2008 Migrantinnen aus, die sich in besonderer Weise ehrenamtlich engagieren. Verliehen wird er durch das Internationale Frauencafé im Lalok Libre in Kooperation mit der Stadt Gelsenkirchen und der Ehrenamtsagentur, Schirmherr ist der Oberbürgermeister der Stadt Gelsenkirchen. Seit diesem Jahr ist auch der Förderverein des Kommunalen Integrationszentrums als Mitveranstalter dabei. Für die Festrede hat erneut Serap Güler, Staatssekretärin für Integration beim NRW-Ministerium für Kinder, Familie, Flüchtlinge und Integration, zugesagt. Sie hatte im letzten Jahr kurzfristig absagen müssen. Laudatio und Preisverleihung liegen bei Bürgermeisterin Martina Rudowitz. Zwischen den Reden und der Preisverleihung wird ein musikalisches Programm geboten.ProgrammablaufEinlass: 17:30 UhrBeginn: 18:00 UhrBegrüßung: Wiltrud Apfeld, Leiterin Kulturraum „die flora“ , stellvertretend für die VeranstaltungsgemeinschaftFestrede: Serap Güler, Staatssekretärin für Integration beim Ministerium für Kinder, Familie, Flüchtlinge und Integration des Landes NRWMusikalisches Intermezzo: Maryam Akhondy (Gesang), Itai Sobol (Klavier)Laudatio und Preisverleihung der „Migradonna“: Martina Rudowitz, Bürgermeisterin der Stadt GelsenkirchenDanksagung der Migradonna 2019Musikalischer Ausklang: Maryam Akhondy (Gesang), Itai Sobol (Klavier)Moderation: Asmaa El Makhoukhi-MekkaouiAnschließend: Büfett, frisch angerichtet vom Team des Lalok LibreDie Veranstaltung wird unterstützt durch die Sparkasse Gelsenkirchen.Veranstalter: Internationales Frauencafé im Lalok Libre und Förderverein des Kommunalen Integrationszentrums e. V. in Kooperation mit der Stadt Gelsenkirchen: Kulturraum „die flora“, Gleichstellungsstelle/Frauenbüro, Referat Kultur, Referat Zuwanderung und Integration/Kommunales Integrationszentrum und Ehrenamtsagentur Gelsenkirchen
CLASS:PUBLIC
DTSTART;TZID=Europe/Berlin:20190927T180000
DTSTAMP:20060812T125900Z
END:VEVENT
END:VCALENDAR