BEGIN:VCALENDAR
VERSION:2.0
PRODID:http://www.gelsenkirchen.de
METHOD:PUBLISH
BEGIN:VTIMEZONE
TZID:Europe/Berlin
BEGIN:DAYLIGHT
TZOFFSETFROM:+0100
TZOFFSETTO:+0200
DTSTART:19810329T020000
RRULE:FREQ=YEARLY;BYMONTH=3;BYDAY=-1SU
TZNAME:CEST
END:DAYLIGHT
BEGIN:STANDARD
TZOFFSETFROM:+0200
TZOFFSETTO:+0100
DTSTART:19961027T030000
RRULE:FREQ=YEARLY;BYMONTH=10;BYDAY=-1SU
TZNAME:CET
END:STANDARD
END:VTIMEZONE
BEGIN:VEVENT
UID:55264
ORGANIZER;CN="Förderverein des Lions Clubs Gelsenkirchen-Buer" 
LOCATION:De-La-Chevallerie-Straße 44, De-La-Chevallerie-Straße 44, 45894 Gelsenkirchen
SUMMARY:"Lions-Art" mit Zweitauflage
DESCRIPTION:Am Samstag/Sonntag, 18./19. Mai, lädt der Lions-Club Gelsenkirchen-Buer zur Kunstausstellung in das Gebäude De-la-Chevallerie-Straße 44 (Eingang Pfefferackerstraße) ein. Neun Künstler präsentieren jeweils zwei ihrer Arbeiten.
CLASS:PUBLIC
DTSTART;TZID=Europe/Berlin:20190518
DTEND;TZID=Europe/Berlin:20190521
DTSTAMP:20060812T125900Z
END:VEVENT
END:VCALENDAR