BEGIN:VCALENDAR
VERSION:2.0
PRODID:http://www.gelsenkirchen.de
METHOD:PUBLISH
BEGIN:VTIMEZONE
TZID:Europe/Berlin
BEGIN:DAYLIGHT
TZOFFSETFROM:+0100
TZOFFSETTO:+0200
DTSTART:19810329T020000
RRULE:FREQ=YEARLY;BYMONTH=3;BYDAY=-1SU
TZNAME:CEST
END:DAYLIGHT
BEGIN:STANDARD
TZOFFSETFROM:+0200
TZOFFSETTO:+0100
DTSTART:19961027T030000
RRULE:FREQ=YEARLY;BYMONTH=10;BYDAY=-1SU
TZNAME:CET
END:STANDARD
END:VTIMEZONE
BEGIN:VEVENT
UID:55164
ORGANIZER;CN="Stadt Gelsenkirchen - Kulturraum „die flora“" :MAILTO:flora@gelsenkirchen.de
LOCATION:Kulturraum „die flora“, Florastraße 26, 45879 Gelsenkirchen
SUMMARY:Der unbekannte Nachbar
DESCRIPTION:Migration, das heiβt Trennung, Unsicherheit, Unbekanntsein, Zweifel, nie enden wollende Fremdheit, Arbeitsnot, inneres Aufgewühltsein, tiefer Schmerz. Tiefer, nicht endender Schmerz… Der Hertener Lehrer und Autor Bahattin Gemici beschreibt in seinem Buch Lebenswege von nach Deutschland ausgewanderten türkischen Migrant*innen: ihre Beziehungen mit Nachbarn, den schwierigen Spracherwerb, ihre Unsicherheiten, die das Leben in zwei Ländern und Kulturen mit sich bringt, auch ihre Diskriminierungserfahrungen. Hier bitte Absatz machenBahattin Gemici wurde 1954 in Ankara geboren. Seit 1977 lebt er in Herten und arbeitet als Lehrer, schreibt Gedichte, Kurzgeschichten und Märchen. Mehrere seiner Veröffentlichungen in Deutsch und Türkisch wurden vom WDR und dem türkischen Rundfunk und Fernsehen gesendet. Für seine Arbeit wurde er mehrfach ausgezeichnet. Er setzt sich literarisch u.a. mit den Themen Einwanderung, Flüchtlinge, Fremdsein, Fremdenfeindlichkeit, Anderssein, Abgrenzung, Integration, Gewalt und Frieden auseinander. Mit der Lesung und anschließenden Diskussion möchten Autor und Veranstalter Brücken zwischen Einheimischen und Migrant*innen bauen und sich über gute Wege der Nachbarschaft austauschen.Literarische und andere Auszeichnungen:1984: Georg-Tappert-Preis der GEW1986: Auszeichnung der Stadt Herten1989/1992: Arbeitsstipendien des Kultusministeriums NRW1996: 1. Lyrikpreis in türkischer Sprache bei der VHS Köln2003: Preis des türk. Fernsehens TRT-INT2006: Kurzgeschichtenpreis des Türkischen Rundfunks.Äußerungen aus Schriftstellerkreisen zu früheren Veröffentlichungen:„ … Bahattin Gemicis zeitkritische Lyrik ist darum erbarmungslos mit den Verfolgern, weil sie Erbarmen mit den Opfern hat. […] Gemicis Lyrik zählt sicherlich zu den direktesten literarischen Aussagen unserer Jahre. Damit wird sie unüberhörbar. Und damit bitter notwendig.“Josef Reding (*1929 in Castrop-Rauxel, Schriftsteller; ausgezeichnet u.a. mit dem Annette-von-Droste-Hülshoff-Preis und dem Literaturpreis Ruhrgebiet)„Lest ihn, ihr werdet sehen und sofort merken: Dieses Buch ist die Frucht des langen Mühens und Plagens. Ihr werdet Seite um Seite weiterlesen darin und viele Gedichte von Gemici werdet ihr allen zeigen und sagen: ‚Hier, lies das einmal!’“Fakir Baykurt (*1929 in Akçaköy †1999 in Essen, Lehrer und Schriftsteller; ausgezeichnet u.a. mit dem Sait-Faik-Literaturpreis, einem der bedeutendsten Literaturpreise der Türkei, und dem Literaturpreis des Bundesverbands der deutschen IndustrieEine Veranstaltung im Rahmen des stadtweiten Dialogs „Das gelingende Leben“Veranstalter: Kulturraum „die flora“ in Kooperation mit dem Förderverein Städtepartnerschaft Gelsenkirchen – Büyükçekmece e.V.
CLASS:PUBLIC
DTSTART;TZID=Europe/Berlin:20190619T180000
DTSTAMP:20060812T125900Z
END:VEVENT
END:VCALENDAR