BEGIN:VCALENDAR
VERSION:2.0
PRODID:http://www.gelsenkirchen.de
METHOD:PUBLISH
BEGIN:VTIMEZONE
TZID:Europe/Berlin
BEGIN:DAYLIGHT
TZOFFSETFROM:+0100
TZOFFSETTO:+0200
DTSTART:19810329T020000
RRULE:FREQ=YEARLY;BYMONTH=3;BYDAY=-1SU
TZNAME:CEST
END:DAYLIGHT
BEGIN:STANDARD
TZOFFSETFROM:+0200
TZOFFSETTO:+0100
DTSTART:19961027T030000
RRULE:FREQ=YEARLY;BYMONTH=10;BYDAY=-1SU
TZNAME:CET
END:STANDARD
END:VTIMEZONE
BEGIN:VEVENT
UID:42207
ORGANIZER;CN="GeKita" :MAILTO:Kita@GeKita.de
LOCATION:Städt. Tageseinrichtung für Kinder und Familienzentrum Florastraße, Franz-Bielefeld-Straße 48, 45881 Gelsenkirchen
SUMMARY:Kindertagespflege - eine berufliche Perspektive!
DESCRIPTION:GeKita lädt gemeinsam mit der städtischen Tageseinrichtung für Kinder und Familienzentrum Florastraße zur Informationsveranstaltung zum Thema "Kindertagespflege - eine berufliche Perspektive!" am Montag, den 9. April 2018  Uhr von 14 bis 16 Uhr in die Räumen des städtischen Familienzentrums Florastraße an der Franz-Bielefeld-Straße 48 in Gelsenkirchen-Schalke ein.Wie werde ich Tagesmutter oder Tagesvater?Der Beruf der Tagesmutter oder des Tagesvaters ermöglicht Personen, die gerne mit Kindern arbeiten, sich eine berufliche Existenz zu schaffen. Für Mütter und Väter ist es eine gute Gelegenheit, wieder in den Beruf einzusteigen oder auch, sich beruflich neu zu orientieren. Familienfreundlichkeit inklusive – denn eigene Kinder können im eigenen Haushalt mitbetreut werden.Personen, die an einer Tätigkeit als Tagesmutter oder Tagesvater interessiert sind, erhalten in dieser Info-Veranstaltung einen Überblick zur Tätigkeit als Tagespflegeperson. Beantwortet werden Fragen zur Eignungsprüfung, Qualifizierung und der Erteilung der Pflegeerlaubnis. Ebenso wird über die Verdienstmöglichkeiten und weitere rechtliche Rahmenbedingungen informiert.Die Referentin, Frau Stettinus, ist  Fachberatung der Kindertagespflege bei GeKita. Sie steht für alle weiteren Fragen der Interessierten sehr gerne zur Verfügung.Anmeldung erbetenInformationen und Anmeldungen täglich von 8 bis 16 Uhr möglich:GeKitaFrau Stettinus (Fachberatung Kindertagespflege)Telefon +49 (209) 169-9840oderStädtischen Tageseinrichtung und Familienzentrum FlorastraßeRita Meese (Leitung)Telefon +49 (209) 97751881
CLASS:PUBLIC
DTSTART;TZID=Europe/Berlin:20180409T140000
DTEND;TZID=Europe/Berlin:20180409T160000
DTSTAMP:20060812T125900Z
END:VEVENT
END:VCALENDAR