BEGIN:VCALENDAR
VERSION:2.0
PRODID:http://www.gelsenkirchen.de
METHOD:PUBLISH
BEGIN:VTIMEZONE
TZID:Europe/Berlin
BEGIN:DAYLIGHT
TZOFFSETFROM:+0100
TZOFFSETTO:+0200
DTSTART:19810329T020000
RRULE:FREQ=YEARLY;BYMONTH=3;BYDAY=-1SU
TZNAME:CEST
END:DAYLIGHT
BEGIN:STANDARD
TZOFFSETFROM:+0200
TZOFFSETTO:+0100
DTSTART:19961027T030000
RRULE:FREQ=YEARLY;BYMONTH=10;BYDAY=-1SU
TZNAME:CET
END:STANDARD
END:VTIMEZONE
BEGIN:VEVENT
UID:40939
ORGANIZER;CN="Marienhospital Gelsenkirchen" 
LOCATION:Marienhospital Gelsenkirchen - Elternschule Sonnenschein Virchowstraße 120 (Wohnheim II9, 2. OG), Virchowstraße 122, 45886 Gelsenkirchen
SUMMARY:Akupunktursprechstunde für Schwangere
DESCRIPTION:Die Elternschule Sonnenschein am Marienhospital Gelsenkirchen hat für Schwangere ab der 36. Schwangerschaftswoche ein neues Angebot in das Programm aufgenommen: die geburtsvorbereitende Akupunktur.  Die Akupunktursprechstunde unter der Leitung der Hebamme Sarah Heimerl findet einmal pro Woche immer mittwochs in der Elternschule Sonnenschein, Virchowstraße 120, 45886 Gelsenkirchen statt. Der erste Termin ist Mittwoch, 7. Februar 2018, 18 Uhr.  Interessentinnen werden gebeten, sich unter der Rufnummer 0209 172-3564 oder per E-Mail an sonnenschein@marienhospital.eu anzumelden.
CLASS:PUBLIC
DTSTART;TZID=Europe/Berlin:20180502T180000
DTSTAMP:20060812T125900Z
END:VEVENT
END:VCALENDAR