BEGIN:VCALENDAR
VERSION:2.0
PRODID:http://www.gelsenkirchen.de
METHOD:PUBLISH
BEGIN:VTIMEZONE
TZID:Europe/Berlin
BEGIN:DAYLIGHT
TZOFFSETFROM:+0100
TZOFFSETTO:+0200
DTSTART:19810329T020000
RRULE:FREQ=YEARLY;BYMONTH=3;BYDAY=-1SU
TZNAME:CEST
END:DAYLIGHT
BEGIN:STANDARD
TZOFFSETFROM:+0200
TZOFFSETTO:+0100
DTSTART:19961027T030000
RRULE:FREQ=YEARLY;BYMONTH=10;BYDAY=-1SU
TZNAME:CET
END:STANDARD
END:VTIMEZONE
BEGIN:VEVENT
UID:38123
ORGANIZER;CN="IG Galeriemeile Gelsenkirchen" 
LOCATION:Galeriemeile Gelsenkirchen, Bergmannstraße, Bochumer Straße, weitere Orte, 45886 Gelsenkirchen
SUMMARY:„Licht An“
DESCRIPTION:Zum zehnten Mal laden die Ateliers, Galerien, Ausstellungs- und Virtuelle Räume der Galeriemeile Gelsenkirchen am ersten Adventswochenende zum Kunstspaziergang ein. Insgesamt vereint die Galeriemeile mittlerweile die kreative Kraft von rund 60 Künstlerinnen und Künstlern.Die Aktion "Licht an" findet seit 2009 im internationalen Stadtteil Ückendorf statt. Sie wird veranstaltet vom Verein Galeriemeile Gelsenkirchen e.V. Bürgerinnen und Bürger, die das Leben im Kreativquartier fördern möchten, sind herzlich eingeladen, Mitglied zu werden. Der Mitgliedsbeitrag beträgt 25 Euro im Jahr.
CLASS:PUBLIC
DTSTART;TZID=Europe/Berlin:20181201T150000
DTEND;TZID=Europe/Berlin:20181202T180000
DTSTAMP:20060812T125900Z
END:VEVENT
END:VCALENDAR