BEGIN:VCALENDAR
VERSION:2.0
PRODID:http://www.gelsenkirchen.de
METHOD:PUBLISH
BEGIN:VTIMEZONE
TZID:Europe/Berlin
BEGIN:DAYLIGHT
TZOFFSETFROM:+0100
TZOFFSETTO:+0200
DTSTART:19810329T020000
RRULE:FREQ=YEARLY;BYMONTH=3;BYDAY=-1SU
TZNAME:CEST
END:DAYLIGHT
BEGIN:STANDARD
TZOFFSETFROM:+0200
TZOFFSETTO:+0100
DTSTART:19961027T030000
RRULE:FREQ=YEARLY;BYMONTH=10;BYDAY=-1SU
TZNAME:CET
END:STANDARD
END:VTIMEZONE
BEGIN:VEVENT
UID:31337
ORGANIZER;CN="KW Konzept" 
LOCATION:Nordsternpark, Am Bugapark 1, 45899 Gelsenkirchen
SUMMARY:5. NORDSTERN KLASSIK
DESCRIPTION:Die Nordstern Klassik, das Treffen für Youngtimer und Oldtimer in Gelsenkirchen, verläuft seit 2013 ausgesprochen erfolgreich und ist damit selbst schon fast ein Klassiker geworden. Die 5. Auflage der Nordstern Klassik wird erneut hunderte motorisierte Raritäten und ihre Fahrer in den Nordsternpark führen. Keine Epoche, keine Fahrzeuggattung, die nicht vertreten sein wird und am roten Teppich vorgestellt wird.Die Zufahrt auf das Gelände erfolgt für Teilnehmer und Besucher über die Fritz-Schupp-Straße.
CLASS:PUBLIC
DTSTART;TZID=Europe/Berlin:20170611T100000
DTEND;TZID=Europe/Berlin:20170611T160000
DTSTAMP:20060812T125900Z
END:VEVENT
END:VCALENDAR