BEGIN:VCALENDAR
VERSION:2.0
PRODID:http://www.gelsenkirchen.de
METHOD:PUBLISH
BEGIN:VTIMEZONE
TZID:Europe/Berlin
BEGIN:DAYLIGHT
TZOFFSETFROM:+0100
TZOFFSETTO:+0200
DTSTART:19810329T020000
RRULE:FREQ=YEARLY;BYMONTH=3;BYDAY=-1SU
TZNAME:CEST
END:DAYLIGHT
BEGIN:STANDARD
TZOFFSETFROM:+0200
TZOFFSETTO:+0100
DTSTART:19961027T030000
RRULE:FREQ=YEARLY;BYMONTH=10;BYDAY=-1SU
TZNAME:CET
END:STANDARD
END:VTIMEZONE
BEGIN:VEVENT
UID:23710
ORGANIZER;CN="FC Schalke 04 Arena Management GmbH" 
LOCATION:Veltins-ARENA, Arenaring, 45891 Gelsenkirchen
SUMMARY:PUR & Friends
DESCRIPTION:Am 02.09.2017 werden PUR in der legendären VELTINS-Arena in Gelsenkirchen ihr einziges Konzert im Jahr 2017 spielen.Bereits zum 6. Mal werden PUR die Fans in einem der größten Stadien in Deutschland begeistern. Diesmal als Special Guests dabei: Andreas Bourani,Daniel Wirtz, Bülent Ceylan und viele weitere Überrschungsgäste.
CLASS:PUBLIC
DTSTART;TZID=Europe/Berlin:20170902T200000
DTSTAMP:20060812T125900Z
END:VEVENT
END:VCALENDAR