BEGIN:VCALENDAR
VERSION:2.0
PRODID:http://www.gelsenkirchen.de
METHOD:PUBLISH
BEGIN:VTIMEZONE
TZID:Europe/Berlin
BEGIN:DAYLIGHT
TZOFFSETFROM:+0100
TZOFFSETTO:+0200
DTSTART:19810329T020000
RRULE:FREQ=YEARLY;BYMONTH=3;BYDAY=-1SU
TZNAME:CEST
END:DAYLIGHT
BEGIN:STANDARD
TZOFFSETFROM:+0200
TZOFFSETTO:+0100
DTSTART:19961027T030000
RRULE:FREQ=YEARLY;BYMONTH=10;BYDAY=-1SU
TZNAME:CET
END:STANDARD
END:VTIMEZONE
BEGIN:VEVENT
UID:20478
ORGANIZER;CN="Kinder- und Jugendklinik Gelsenkirchen" :MAILTO:info@kjkge.de
LOCATION:Kinder- und Jugendklinik Gelsenkirchen, Adenauerallee 30, 45894 Gelsenkirchen
SUMMARY:Allergien sind heilbar
DESCRIPTION:Auf Erkenntnissen der Stress- und Hirnforschung beruht der ganzheitliche Therapieansatz der Kinder- und Jugendklinik Gelsenkirchen bei der Behandlung allergischer Erkrankungen wie Neurodermitis, Asthma und Heuschnupfen. Diese Erkrankungen werden durch Stress gefördert und verstärkt. Über die psychosomatische Einordnung dieser Krankheiten sowie die verhaltenstherapeutischen Maßnahmen zur Förderung der Selbstheilung informiert Dr. Kurt-André Lion, Leiter der Abteilung für Psychosomatik und Allergologie, am Donnerstag, 19. Mai 2016, ab 19.30 Uhr. Wer an der Veranstaltung in der Kinder- und Jugendklinik Gelsenkirchen, Adenauerallee 30, teilnehmen möchten, sollte sich telefonisch unter 0209 – 369-220 anmelden. Der Unkostenbeitrag be­trägt pro Teilnehmer drei Euro. Veranstaltungsort ist der Seminarraum über der Cafeteria.
CLASS:PUBLIC
DTSTART;TZID=Europe/Berlin:20160519T193000
DTSTAMP:20060812T125900Z
END:VEVENT
END:VCALENDAR